BEGIN:VCALENDAR
VERSION:2.0
METHOD:PUBLISH
CALSCALE:GREGORIAN
PRODID:-//Refresh Web Development//Helios Calendar//EN
X-FROM-URL:https://www.bayareascience.org/calendar/index.php?com=details&eID=33387
X-WR-RELCALID:BayAreaScience.org Birding Drop-in at the Charleston Slough Observation Deck 20230205T090000
X-WR-TIMEZONE:America/New_York
X-WR-CALNAME:BayAreaScience.org
BEGIN:VEVENT
URL;VALUE=URI:https://www.bayareascience.org/calendar/index.php?com=detail&eID=33387
DTSTART:20230205T090000
DTEND:20230205T110000
SUMMARY:Birding Drop-in at the Charleston Slough Observation Deck
DESCRIPTION:Drop-in anytime between 9 am and 11 am to bird with us! SCVAS volunteers will be stationed at the Charleston Slough observation...\n______________________________\nThis Event Downloaded From a Helios Calendar Powered Site
LOCATION:Charleston Slough Observation Deck - Terminal Blvd & San Antonio Rd \, Palo Alto\, CA  94303
CATEGORIES:BayAreaScience.org Events
PRIORITY:0
TRANSP:TRANSPARENT
END:VEVENT
END:VCALENDAR