BEGIN:VCALENDAR
VERSION:2.0
METHOD:PUBLISH
CALSCALE:GREGORIAN
PRODID:-//Refresh Web Development//Helios Calendar//EN
X-FROM-URL:https://www.bayareascience.org/calendar/index.php?com=details&eID=33388
X-WR-RELCALID:BayAreaScience.org What the Clean Air Act needs to get right about wildfire - Livestream 20230118T123000
X-WR-TIMEZONE:America/New_York
X-WR-CALNAME:BayAreaScience.org
BEGIN:VEVENT
URL;VALUE=URI:https://www.bayareascience.org/calendar/index.php?com=detail&eID=33388
DTSTART:20230118T123000
DTEND:20230118T133000
SUMMARY:What the Clean Air Act needs to get right about wildfire - Livestream
DESCRIPTION:This month\, the US Environmental Protection Agency (EPA) proposed tightening the national standards for soot pollution (PM2.5). Strengthening controls on PM2.5 has\, second to banning lead additives...\n______________________________\nThis Event Downloaded From a Helios Calendar Powered Site
LOCATION:Stanford University -  \, \, CA  
CATEGORIES:BayAreaScience.org Events
PRIORITY:0
TRANSP:TRANSPARENT
END:VEVENT
END:VCALENDAR