BEGIN:VCALENDAR
VERSION:2.0
METHOD:PUBLISH
CALSCALE:GREGORIAN
PRODID:-//Refresh Web Development//Helios Calendar//EN
X-FROM-URL:https://www.bayareascience.org/calendar/index.php?com=details&eID=33403
X-WR-RELCALID:BayAreaScience.org Machine Vision for Medical Monitoring 20230426T193000
X-WR-TIMEZONE:America/New_York
X-WR-CALNAME:BayAreaScience.org
BEGIN:VEVENT
URL;VALUE=URI:https://www.bayareascience.org/calendar/index.php?com=detail&eID=33403
DTSTART:20230426T193000
DTEND:20230426T203000
SUMMARY:Machine Vision for Medical Monitoring
DESCRIPTION:Speaker: Art Wallace M.D. Ph.D. of the San Francisco VA Medical Center and UCSF Medical School\n______________________________\nThis Event Downloaded From a Helios Calendar Powered Site
LOCATION:Marin Science Seminar - 320 Nova Albion Way Terra Linda High School Innovation Hub 1st Floor\, San Rafael\, CA USA 94903
CATEGORIES:BayAreaScience.org Events
PRIORITY:0
TRANSP:TRANSPARENT
END:VEVENT
END:VCALENDAR