BEGIN:VCALENDAR
VERSION:2.0
METHOD:PUBLISH
CALSCALE:GREGORIAN
PRODID:-//Refresh Web Development//Helios Calendar//EN
X-FROM-URL:https://www.bayareascience.org/calendar/index.php?com=details&eID=33407
X-WR-RELCALID:BayAreaScience.org Astronomy Beginner's Forum - Livestream 20230220T190000
X-WR-TIMEZONE:America/New_York
X-WR-CALNAME:BayAreaScience.org
BEGIN:VEVENT
URL;VALUE=URI:https://www.bayareascience.org/calendar/index.php?com=detail&eID=33407
DTSTART:20230220T190000
DTEND:20230220T200000
SUMMARY:Astronomy Beginner's Forum - Livestream
DESCRIPTION:If you're new to astronomy and are perhaps considering getting your own telescope but are not sure where to start\, maybe we can help!This...\n______________________________\nThis Event Downloaded From a Helios Calendar Powered Site
LOCATION:San Jose Astronomical Society -  \, \, CA  
CATEGORIES:BayAreaScience.org Events
PRIORITY:0
TRANSP:TRANSPARENT
END:VEVENT
END:VCALENDAR