BEGIN:VCALENDAR
VERSION:2.0
METHOD:PUBLISH
CALSCALE:GREGORIAN
PRODID:-//Refresh Web Development//Helios Calendar//EN
X-FROM-URL:https://www.bayareascience.org/calendar/index.php?com=details&eID=33417
X-WR-RELCALID:BayAreaScience.org Exoplanet research, the First Year of Exoplanet Discoveries with the James Webb Space Telescope - SOLD OUT 20230811T200000
X-WR-TIMEZONE:America/New_York
X-WR-CALNAME:BayAreaScience.org
BEGIN:VEVENT
URL;VALUE=URI:https://www.bayareascience.org/calendar/index.php?com=detail&eID=33417
DTSTART:20230811T200000
DTEND:20230811T200000
SUMMARY:Exoplanet research\, the First Year of Exoplanet Discoveries with the James Webb Space Telescope - SOLD OUT
DESCRIPTION:Our Evenings with the Stars programs are held annually as part of our Summer Series. Each year we bring world-renowned astronomers to the summit of Mount Hamilton for a night with...\n______________________________\nThis Event Downloaded From a Helios Calendar Powered Site
LOCATION:Lick Observatory - 7299 Mt. Hamilton Rd \, Mt. Hamilton\, CA  95140
CATEGORIES:BayAreaScience.org Events
PRIORITY:0
TRANSP:TRANSPARENT
END:VEVENT
END:VCALENDAR