BEGIN:VCALENDAR
VERSION:2.0
METHOD:PUBLISH
CALSCALE:GREGORIAN
PRODID:-//Refresh Web Development//Helios Calendar//EN
X-FROM-URL:https://www.bayareascience.org/calendar/index.php?com=details&eID=33425
X-WR-RELCALID:BayAreaScience.org Nerd Nite SF #129 The Comeback: Love Never Dies! Lizards, Supernatural fandom, & a Valentineâ€™s Contest! 20230215T190000
X-WR-TIMEZONE:America/New_York
X-WR-CALNAME:BayAreaScience.org
BEGIN:VEVENT
URL;VALUE=URI:https://www.bayareascience.org/calendar/index.php?com=detail&eID=33425
DTSTART:20230215T190000
DTEND:20230215T190000
SUMMARY:Nerd Nite SF #129 The Comeback: Love Never Dies! Lizards\, Supernatural fandom\, & a Valentineâ€™s Contest!
DESCRIPTION:Dearly beloved\, we are gathered...\n______________________________\nThis Event Downloaded From a Helios Calendar Powered Site
LOCATION:Rickshaw Stop - 155 Fell St. @ Van Ness \, San Francisco\, CA  94102
CATEGORIES:BayAreaScience.org Events
PRIORITY:0
TRANSP:TRANSPARENT
END:VEVENT
END:VCALENDAR