BEGIN:VCALENDAR
VERSION:2.0
METHOD:PUBLISH
CALSCALE:GREGORIAN
PRODID:-//Refresh Web Development//Helios Calendar//EN
X-FROM-URL:https://www.bayareascience.org/calendar/index.php?com=details&eID=33426
X-WR-RELCALID:BayAreaScience.org Uncovering the Past: Using Genetic Data from Present-day and Ancient Genomes to Reconstruct Human History and Evolution 20230125T121000
X-WR-TIMEZONE:America/New_York
X-WR-CALNAME:BayAreaScience.org
BEGIN:VEVENT
URL;VALUE=URI:https://www.bayareascience.org/calendar/index.php?com=detail&eID=33426
DTSTART:20230125T121000
DTEND:20230125T130000
SUMMARY:Uncovering the Past: Using Genetic Data from Present-day and Ancient Genomes to Reconstruct Human History and Evolution
DESCRIPTION:Recent advances...\n______________________________\nThis Event Downloaded From a Helios Calendar Powered Site
LOCATION:Archaeology Research Facility - UC Berkeley 2251 College\, Berkeley\, CA  94720
CATEGORIES:BayAreaScience.org Events
PRIORITY:0
TRANSP:TRANSPARENT
END:VEVENT
END:VCALENDAR