BEGIN:VCALENDAR
VERSION:2.0
METHOD:PUBLISH
CALSCALE:GREGORIAN
PRODID:-//Refresh Web Development//Helios Calendar//EN
X-FROM-URL:https://www.bayareascience.org/calendar/index.php?com=details&eID=33428
X-WR-RELCALID:BayAreaScience.org Designing Ecosystems for Education, Work, and Community Engagement  20230215T173000
X-WR-TIMEZONE:America/New_York
X-WR-CALNAME:BayAreaScience.org
BEGIN:VEVENT
URL;VALUE=URI:https://www.bayareascience.org/calendar/index.php?com=detail&eID=33428
DTSTART:20230215T173000
DTEND:20230215T193000
SUMMARY:Designing Ecosystems for Education\, Work\, and Community Engagement 
DESCRIPTION:Join UC Santa Cruz as we explore the design of ecosystems to support individuals and communities in navigating a whitewater world of change. We will discuss learning environments...\n______________________________\nThis Event Downloaded From a Helios Calendar Powered Site
LOCATION:UC Santa Cruz Silicon Valley Campus - 3175 Bowers Ave \, Santa Clara\, CA  95054
CATEGORIES:BayAreaScience.org Events
PRIORITY:0
TRANSP:TRANSPARENT
END:VEVENT
END:VCALENDAR