BEGIN:VCALENDAR
VERSION:2.0
METHOD:PUBLISH
CALSCALE:GREGORIAN
PRODID:-//Refresh Web Development//Helios Calendar//EN
X-FROM-URL:https://www.bayareascience.org/calendar/index.php?com=details&eID=33430
X-WR-RELCALID:BayAreaScience.org After Dark: Sexplorations 20230209T180000
X-WR-TIMEZONE:America/New_York
X-WR-CALNAME:BayAreaScience.org
BEGIN:VEVENT
URL;VALUE=URI:https://www.bayareascience.org/calendar/index.php?com=detail&eID=33430
DTSTART:20230209T180000
DTEND:20230209T220000
SUMMARY:After Dark: Sexplorations
DESCRIPTION:Looking for a hot night out on the town? Slip into something comfortable and take an intimate look at sex - you know\, the transfer of genetic information through sperm and eggs\, which has resulted...\n______________________________\nThis Event Downloaded From a Helios Calendar Powered Site
LOCATION:ExplOratorium - Pier 15 (Embarcadero at Green Street)  \, San Francisco\, CA USA 94111
CATEGORIES:BayAreaScience.org Events
PRIORITY:0
TRANSP:TRANSPARENT
END:VEVENT
END:VCALENDAR