BEGIN:VCALENDAR
VERSION:2.0
METHOD:PUBLISH
CALSCALE:GREGORIAN
PRODID:-//Refresh Web Development//Helios Calendar//EN
X-FROM-URL:https://www.bayareascience.org/calendar/index.php?com=details&eID=33431
X-WR-RELCALID:BayAreaScience.org Science of Cocktails @ After Dark - SOLD OUT 20230209T180000
X-WR-TIMEZONE:America/New_York
X-WR-CALNAME:BayAreaScience.org
BEGIN:VEVENT
URL;VALUE=URI:https://www.bayareascience.org/calendar/index.php?com=detail&eID=33431
DTSTART:20230209T180000
DTEND:20230209T220000
SUMMARY:Science of Cocktails @ After Dark - SOLD OUT
DESCRIPTION:Calling all craft cocktail lovers\, kitchen chemists\, and science fans! Grab your friends or a date\, and join us for Science of Cocktails @ After Dark\, a tasty fundraiser focused on mixology science....\n______________________________\nThis Event Downloaded From a Helios Calendar Powered Site
LOCATION:ExplOratorium - Pier 15 (Embarcadero at Green Street)  \, San Francisco\, CA USA 94111
CATEGORIES:BayAreaScience.org Events
PRIORITY:0
TRANSP:TRANSPARENT
END:VEVENT
END:VCALENDAR