BEGIN:VCALENDAR
VERSION:2.0
METHOD:PUBLISH
CALSCALE:GREGORIAN
PRODID:-//Refresh Web Development//Helios Calendar//EN
X-FROM-URL:https://www.bayareascience.org/calendar/index.php?com=details&eID=33437
X-WR-RELCALID:BayAreaScience.org Introduction to Microgrids - Livestream 20230202T160000
X-WR-TIMEZONE:America/New_York
X-WR-CALNAME:BayAreaScience.org
BEGIN:VEVENT
URL;VALUE=URI:https://www.bayareascience.org/calendar/index.php?com=detail&eID=33437
DTSTART:20230202T160000
DTEND:20230202T170000
SUMMARY:Introduction to Microgrids - Livestream
DESCRIPTION:Most consumers receive their electricity via complex electrical grids containing multiple elements of generation and large transmission and distribution networks. In more highly developed and populated...\n______________________________\nThis Event Downloaded From a Helios Calendar Powered Site
LOCATION:Sonoma State Engineering Colloquium -  \, \, CA  
CATEGORIES:BayAreaScience.org Events
PRIORITY:0
TRANSP:TRANSPARENT
END:VEVENT
END:VCALENDAR