BEGIN:VCALENDAR
VERSION:2.0
METHOD:PUBLISH
CALSCALE:GREGORIAN
PRODID:-//Refresh Web Development//Helios Calendar//EN
X-FROM-URL:https://www.bayareascience.org/calendar/index.php?com=details&eID=33442
X-WR-RELCALID:BayAreaScience.org The Data Behind Deep Fakes - Livestream 20230125T160000
X-WR-TIMEZONE:America/New_York
X-WR-CALNAME:BayAreaScience.org
BEGIN:VEVENT
URL;VALUE=URI:https://www.bayareascience.org/calendar/index.php?com=detail&eID=33442
DTSTART:20230125T160000
DTEND:20230125T160000
SUMMARY:The Data Behind Deep Fakes - Livestream
DESCRIPTION:A Deepfake is a photo\, video or audio file that has been digitally altered or created to misrepresent reality [1]. In this talk I will describe the consequence of Deepfake...\n______________________________\nThis Event Downloaded From a Helios Calendar Powered Site
LOCATION:Stanford University -  \, \, CA  
CATEGORIES:BayAreaScience.org Events
PRIORITY:0
TRANSP:TRANSPARENT
END:VEVENT
END:VCALENDAR