BEGIN:VCALENDAR
VERSION:2.0
METHOD:PUBLISH
CALSCALE:GREGORIAN
PRODID:-//Refresh Web Development//Helios Calendar//EN
X-FROM-URL:https://www.bayareascience.org/calendar/index.php?com=details&eID=33443
X-WR-RELCALID:BayAreaScience.org Astronaut Steve Smith: Lessons from Life at Mach 25 20230126T190000
X-WR-TIMEZONE:America/New_York
X-WR-CALNAME:BayAreaScience.org
BEGIN:VEVENT
URL;VALUE=URI:https://www.bayareascience.org/calendar/index.php?com=detail&eID=33443
DTSTART:20230126T190000
DTEND:20230126T203000
SUMMARY:Astronaut Steve Smith: Lessons from Life at Mach 25
DESCRIPTION:Hear Astronaut Steve Smith share amazing stories from his four trips to space and inspire us all to achieve our biggest goals.Steve Smith is one of Americaâ€™s most...\n______________________________\nThis Event Downloaded From a Helios Calendar Powered Site
LOCATION:Carondelet High School - 1133 Winton Drive \, Concord\, CA United States 94518
CATEGORIES:BayAreaScience.org Events
PRIORITY:0
TRANSP:TRANSPARENT
END:VEVENT
END:VCALENDAR