BEGIN:VCALENDAR
VERSION:2.0
METHOD:PUBLISH
CALSCALE:GREGORIAN
PRODID:-//Refresh Web Development//Helios Calendar//EN
X-FROM-URL:https://www.bayareascience.org/calendar/index.php?com=details&eID=33444
X-WR-RELCALID:BayAreaScience.org  NightSchool: Back from the Dead - Livestream 20230202T190000
X-WR-TIMEZONE:America/New_York
X-WR-CALNAME:BayAreaScience.org
BEGIN:VEVENT
URL;VALUE=URI:https://www.bayareascience.org/calendar/index.php?com=detail&eID=33444
DTSTART:20230202T190000
DTEND:20230202T190000
SUMMARY: NightSchool: Back from the Dead - Livestream
DESCRIPTION:Sometimes in conservation\, we get second chances to save an evolutionary lineage we thought was lost. Meet three so-called â€œLazarus species\,â€ aka species that were once presumed extinct...\n______________________________\nThis Event Downloaded From a Helios Calendar Powered Site
LOCATION:California Academy of Sciences -  \, \, CA  
CATEGORIES:BayAreaScience.org Events
PRIORITY:0
TRANSP:TRANSPARENT
END:VEVENT
END:VCALENDAR