BEGIN:VCALENDAR
VERSION:2.0
METHOD:PUBLISH
CALSCALE:GREGORIAN
PRODID:-//Refresh Web Development//Helios Calendar//EN
X-FROM-URL:https://www.bayareascience.org/calendar/index.php?com=details&eID=33454
X-WR-RELCALID:BayAreaScience.org Hearing the Stars: New Insights into Stellar Interiors - Rescheduled 20230124T173000
X-WR-TIMEZONE:America/New_York
X-WR-CALNAME:BayAreaScience.org
BEGIN:VEVENT
URL;VALUE=URI:https://www.bayareascience.org/calendar/index.php?com=detail&eID=33454
DTSTART:20230124T173000
DTEND:20230124T183000
SUMMARY:Hearing the Stars: New Insights into Stellar Interiors - Rescheduled
DESCRIPTION:Space-based observations have provided a remarkable new tool forÂ studying stars within our galaxy\, the Milky Way. Simply by measuring how bright a star is over many years\, we can now directly...\n______________________________\nThis Event Downloaded From a Helios Calendar Powered Site
LOCATION:International House - UC Berkeley Chevron Auditorium\, Berkeley\, CA  94720
CATEGORIES:BayAreaScience.org Events
PRIORITY:0
TRANSP:TRANSPARENT
END:VEVENT
END:VCALENDAR