BEGIN:VCALENDAR
VERSION:2.0
METHOD:PUBLISH
CALSCALE:GREGORIAN
PRODID:-//Refresh Web Development//Helios Calendar//EN
X-FROM-URL:https://www.bayareascience.org/calendar/index.php?com=details&eID=33463
X-WR-RELCALID:BayAreaScience.org SOFIA: High-flying Infrared Astronomy 20230131T183000
X-WR-TIMEZONE:America/New_York
X-WR-CALNAME:BayAreaScience.org
BEGIN:VEVENT
URL;VALUE=URI:https://www.bayareascience.org/calendar/index.php?com=detail&eID=33463
DTSTART:20230131T183000
DTEND:20230131T200000
SUMMARY:SOFIA: High-flying Infrared Astronomy
DESCRIPTION:SOFIA was a 2.7 meter infrared telescope in a Boeing 747 SP. It was a US-German project\; NASA provided the aircraft\, and the German aerospace center\, DLR\, provided the telescope. The airborne observatory...\n______________________________\nThis Event Downloaded From a Helios Calendar Powered Site
LOCATION:Hacker Dojo - 855 Maude Avenue \, Mountain View\, CA  94043
CATEGORIES:BayAreaScience.org Events
PRIORITY:0
TRANSP:TRANSPARENT
END:VEVENT
END:VCALENDAR