BEGIN:VCALENDAR
VERSION:2.0
METHOD:PUBLISH
CALSCALE:GREGORIAN
PRODID:-//Refresh Web Development//Helios Calendar//EN
X-FROM-URL:https://www.bayareascience.org/calendar/index.php?com=details&eID=33464
X-WR-RELCALID:BayAreaScience.org New Directions and Challenges in the Packaging of AR/VR Hardware 20230407T113000
X-WR-TIMEZONE:America/New_York
X-WR-CALNAME:BayAreaScience.org
BEGIN:VEVENT
URL;VALUE=URI:https://www.bayareascience.org/calendar/index.php?com=detail&eID=33464
DTSTART:20230407T113000
DTEND:20230407T133000
SUMMARY:New Directions and Challenges in the Packaging of AR/VR Hardware
DESCRIPTION:This presentation will focus...\n______________________________\nThis Event Downloaded From a Helios Calendar Powered Site
LOCATION:SEMI Global Headquarters - 673 S Milpitas Blvd \, Milpitas\, CA  95035
CATEGORIES:BayAreaScience.org Events
PRIORITY:0
TRANSP:TRANSPARENT
END:VEVENT
END:VCALENDAR