BEGIN:VCALENDAR
VERSION:2.0
METHOD:PUBLISH
CALSCALE:GREGORIAN
PRODID:-//Refresh Web Development//Helios Calendar//EN
X-FROM-URL:https://www.bayareascience.org/calendar/index.php?com=details&eID=33465
X-WR-RELCALID:BayAreaScience.org February LASER talks 20230215T190000
X-WR-TIMEZONE:America/New_York
X-WR-CALNAME:BayAreaScience.org
BEGIN:VEVENT
URL;VALUE=URI:https://www.bayareascience.org/calendar/index.php?com=detail&eID=33465
DTSTART:20230215T190000
DTEND:20230215T190000
SUMMARY:February LASER talks
DESCRIPTION:  Alice Yuan Zhang(Media Artist) on "The Need for...\n______________________________\nThis Event Downloaded From a Helios Calendar Powered Site
LOCATION:LASER Leonardo Art Science Evening Rendezvous - Stanford University \, Stanford\, CA  94305
CATEGORIES:BayAreaScience.org Events
PRIORITY:0
TRANSP:TRANSPARENT
END:VEVENT
END:VCALENDAR