BEGIN:VCALENDAR
VERSION:2.0
METHOD:PUBLISH
CALSCALE:GREGORIAN
PRODID:-//Refresh Web Development//Helios Calendar//EN
X-FROM-URL:https://www.bayareascience.org/calendar/index.php?com=details&eID=33466
X-WR-RELCALID:BayAreaScience.org Saving Time: Discovering a Life Beyond the Clock 20230307T190000
X-WR-TIMEZONE:America/New_York
X-WR-CALNAME:BayAreaScience.org
BEGIN:VEVENT
URL;VALUE=URI:https://www.bayareascience.org/calendar/index.php?com=detail&eID=33466
DTSTART:20230307T190000
DTEND:20230307T190000
SUMMARY:Saving Time: Discovering a Life Beyond the Clock
DESCRIPTION:"What...\n______________________________\nThis Event Downloaded From a Helios Calendar Powered Site
LOCATION:Long Now Foundation - SF Jazz Center 201 Franklin St\, San Francisco\, CA  94102
CATEGORIES:BayAreaScience.org Events
PRIORITY:0
TRANSP:TRANSPARENT
END:VEVENT
END:VCALENDAR