BEGIN:VCALENDAR
VERSION:2.0
METHOD:PUBLISH
CALSCALE:GREGORIAN
PRODID:-//Refresh Web Development//Helios Calendar//EN
X-FROM-URL:https://www.bayareascience.org/calendar/index.php?com=details&eID=33467
X-WR-RELCALID:BayAreaScience.org The path of a flush  20230201T153000
X-WR-TIMEZONE:America/New_York
X-WR-CALNAME:BayAreaScience.org
BEGIN:VEVENT
URL;VALUE=URI:https://www.bayareascience.org/calendar/index.php?com=detail&eID=33467
DTSTART:20230201T153000
DTEND:20230201T153000
SUMMARY:The path of a flush 
DESCRIPTION:Over 50% of the worldâ€™s population live along the coast. Consequently\, the impact of anthropogenic inputs on the life and health of coastal ecosystems is stark. Decades of impact\, fueled...\n______________________________\nThis Event Downloaded From a Helios Calendar Powered Site
LOCATION:Estuary & Ocean Science Center - 3150 Paradise Drive \, Tiburon\, CA  94920
CATEGORIES:BayAreaScience.org Events
PRIORITY:0
TRANSP:TRANSPARENT
END:VEVENT
END:VCALENDAR