BEGIN:VCALENDAR
VERSION:2.0
METHOD:PUBLISH
CALSCALE:GREGORIAN
PRODID:-//Refresh Web Development//Helios Calendar//EN
X-FROM-URL:https://www.bayareascience.org/calendar/index.php?com=details&eID=33469
X-WR-RELCALID:BayAreaScience.org Silicon Valley Leaders Symposium - Tony Vega 20230302T120000
X-WR-TIMEZONE:America/New_York
X-WR-CALNAME:BayAreaScience.org
BEGIN:VEVENT
URL;VALUE=URI:https://www.bayareascience.org/calendar/index.php?com=detail&eID=33469
DTSTART:20230302T120000
DTEND:20230302T120000
SUMMARY:Silicon Valley Leaders Symposium - Tony Vega
DESCRIPTION:Since Fall 2002\, the Charles W. Davidson College of Engineering has hosted the Silicon Valley Leaders Symposium (SVLS). The Symposium hosts industry and technology leaders...\n______________________________\nThis Event Downloaded From a Helios Calendar Powered Site
LOCATION:Silicon Valley Leaders Symposium - San Jose State University Engineering Building Room 285/287\, San Jose\, CA  95192
CATEGORIES:BayAreaScience.org Events
PRIORITY:0
TRANSP:TRANSPARENT
END:VEVENT
END:VCALENDAR