BEGIN:VCALENDAR
VERSION:2.0
METHOD:PUBLISH
CALSCALE:GREGORIAN
PRODID:-//Refresh Web Development//Helios Calendar//EN
X-FROM-URL:https://www.bayareascience.org/calendar/index.php?com=details&eID=33471
X-WR-RELCALID:BayAreaScience.org Social Interactions Determining Breeding Likelihood in Captive Southern White Rhinos: A Case Study 20230327T120000
X-WR-TIMEZONE:America/New_York
X-WR-CALNAME:BayAreaScience.org
BEGIN:VEVENT
URL;VALUE=URI:https://www.bayareascience.org/calendar/index.php?com=detail&eID=33471
DTSTART:20230327T120000
DTEND:20230327T125000
SUMMARY:Social Interactions Determining Breeding Likelihood in Captive Southern White Rhinos: A Case Study
DESCRIPTION:Speaker: Hale Garcia-Dean\, Sonoma State University\n______________________________\nThis Event Downloaded From a Helios Calendar Powered Site
LOCATION:Sonoma State University - Biology Colloquium - 1801 E Cotati Ave Darwin Hall\, Room 103\, Rohnert Park\, CA  94928
CATEGORIES:BayAreaScience.org Events
PRIORITY:0
TRANSP:TRANSPARENT
END:VEVENT
END:VCALENDAR