BEGIN:VCALENDAR
VERSION:2.0
METHOD:PUBLISH
CALSCALE:GREGORIAN
PRODID:-//Refresh Web Development//Helios Calendar//EN
X-FROM-URL:https://www.bayareascience.org/calendar/index.php?com=details&eID=33473
X-WR-RELCALID:BayAreaScience.org Exposing Muybridge: A Special Documentary Screening and Presentation on the Life and Work of a Technological Disruptor - Second screening 20230316T190000
X-WR-TIMEZONE:America/New_York
X-WR-CALNAME:BayAreaScience.org
BEGIN:VEVENT
URL;VALUE=URI:https://www.bayareascience.org/calendar/index.php?com=detail&eID=33473
DTSTART:20230316T190000
DTEND:20230316T211500
SUMMARY:Exposing Muybridge: A Special Documentary Screening and Presentation on the Life and Work of a Technological Disruptor - Second screening
DESCRIPTION:On a balmy June morning in 1878\, photographer Eadweard Muybridge famously captured the airborne gait of a prized trotting horse at Leland Stanfordâ€™s stock...\n______________________________\nThis Event Downloaded From a Helios Calendar Powered Site
LOCATION:The Guild Theater - 949 El Camino Real \, Menlo Park\, CA  94025
CATEGORIES:BayAreaScience.org Events
PRIORITY:0
TRANSP:TRANSPARENT
END:VEVENT
END:VCALENDAR