BEGIN:VCALENDAR
VERSION:2.0
METHOD:PUBLISH
CALSCALE:GREGORIAN
PRODID:-//Refresh Web Development//Helios Calendar//EN
X-FROM-URL:https://www.bayareascience.org/calendar/index.php?com=details&eID=33474
X-WR-RELCALID:BayAreaScience.org Building Stories with Tropes 20230221T163000
X-WR-TIMEZONE:America/New_York
X-WR-CALNAME:BayAreaScience.org
BEGIN:VEVENT
URL;VALUE=URI:https://www.bayareascience.org/calendar/index.php?com=detail&eID=33474
DTSTART:20230221T163000
DTEND:20230221T172000
SUMMARY:Building Stories with Tropes
DESCRIPTION:Stories are the pillars of human cultures. They shape our imagination\, forge our understanding of the world\, and empower people to share their ideas. Although great stories rarely fit into any...\n______________________________\nThis Event Downloaded From a Helios Calendar Powered Site
LOCATION:Margaret Jacks Hall (Bldg 460) - Stanford University 450 Serra Mall\, Stanford\, CA  94305
CATEGORIES:BayAreaScience.org Events
PRIORITY:0
TRANSP:TRANSPARENT
END:VEVENT
END:VCALENDAR