BEGIN:VCALENDAR
VERSION:2.0
METHOD:PUBLISH
CALSCALE:GREGORIAN
PRODID:-//Refresh Web Development//Helios Calendar//EN
X-FROM-URL:https://www.bayareascience.org/calendar/index.php?com=details&eID=33479
X-WR-RELCALID:BayAreaScience.org What Physicists The Higgs Boson Talks to Itself - How and Why Physicists Study Higgs Boson Self-Interactions with the ATLAS Experiment 20230227T160000
X-WR-TIMEZONE:America/New_York
X-WR-CALNAME:BayAreaScience.org
BEGIN:VEVENT
URL;VALUE=URI:https://www.bayareascience.org/calendar/index.php?com=detail&eID=33479
DTSTART:20230227T160000
DTEND:20230227T160000
SUMMARY:What Physicists The Higgs Boson Talks to Itself - How and Why Physicists Study Higgs Boson Self-Interactions with the ATLAS Experiment
DESCRIPTION:As...\n______________________________\nThis Event Downloaded From a Helios Calendar Powered Site
LOCATION:Sonoma State University - What Physicists Do - 1801 E. Cotati Ave. Darwin Hall\, Room 103\, Rohnert Park\, CA USA 94928
CATEGORIES:BayAreaScience.org Events
PRIORITY:0
TRANSP:TRANSPARENT
END:VEVENT
END:VCALENDAR