BEGIN:VCALENDAR
VERSION:2.0
METHOD:PUBLISH
CALSCALE:GREGORIAN
PRODID:-//Refresh Web Development//Helios Calendar//EN
X-FROM-URL:https://www.bayareascience.org/calendar/index.php?com=details&eID=33494
X-WR-RELCALID:BayAreaScience.org The Chemistry and Physics of Bipolar Membranes with Applications in Water, Energy, and Decarbonization 20230209T120000
X-WR-TIMEZONE:America/New_York
X-WR-CALNAME:BayAreaScience.org
BEGIN:VEVENT
URL;VALUE=URI:https://www.bayareascience.org/calendar/index.php?com=detail&eID=33494
DTSTART:20230209T120000
DTEND:20230209T133000
SUMMARY:The Chemistry and Physics of Bipolar Membranes with Applications in Water\, Energy\, and Decarbonization
DESCRIPTION:Bipolar membranes are ionic analogues of semiconductor pn junctions made of laminated anion- and cation-selective ionomer layers which can convert electrical energy into pH gradients. Through fundamental...\n______________________________\nThis Event Downloaded From a Helios Calendar Powered Site
LOCATION:Tan Hall - UC Berkeley Room 775A\, Berkeley\, CA  94720
CATEGORIES:BayAreaScience.org Events
PRIORITY:0
TRANSP:TRANSPARENT
END:VEVENT
END:VCALENDAR