BEGIN:VCALENDAR
VERSION:2.0
METHOD:PUBLISH
CALSCALE:GREGORIAN
PRODID:-//Refresh Web Development//Helios Calendar//EN
X-FROM-URL:https://www.bayareascience.org/calendar/index.php?com=details&eID=33498
X-WR-RELCALID:BayAreaScience.org Building Intelligent Agents to Reach Net-Zero 2050 20230201T091500
X-WR-TIMEZONE:America/New_York
X-WR-CALNAME:BayAreaScience.org
BEGIN:VEVENT
URL;VALUE=URI:https://www.bayareascience.org/calendar/index.php?com=detail&eID=33498
DTSTART:20230201T091500
DTEND:20230201T110000
SUMMARY:Building Intelligent Agents to Reach Net-Zero 2050
DESCRIPTION:Reaching net-zero by cutting green house gas emission by 2050 is arguably one of humanities greatest challenge. The sheer speed and scale at which this needs to be achieved brings into question...\n______________________________\nThis Event Downloaded From a Helios Calendar Powered Site
LOCATION:Gates Computer Science Building - Stanford University Room 119\, Stanford\, CA  94305
CATEGORIES:BayAreaScience.org Events
PRIORITY:0
TRANSP:TRANSPARENT
END:VEVENT
END:VCALENDAR