BEGIN:VCALENDAR
VERSION:2.0
METHOD:PUBLISH
CALSCALE:GREGORIAN
PRODID:-//Refresh Web Development//Helios Calendar//EN
X-FROM-URL:https://www.bayareascience.org/calendar/index.php?com=details&eID=33500
X-WR-RELCALID:BayAreaScience.org   Near-surface Turbulence in Arctic, Temperate, and Tropical  Inland Waters: Implications for Gas Fluxes 20230130T123000
X-WR-TIMEZONE:America/New_York
X-WR-CALNAME:BayAreaScience.org
BEGIN:VEVENT
URL;VALUE=URI:https://www.bayareascience.org/calendar/index.php?com=detail&eID=33500
DTSTART:20230130T123000
DTEND:20230130T133000
SUMMARY:  Near-surface Turbulence in Arctic\, Temperate\, and Tropical  Inland Waters: Implications for Gas Fluxes
DESCRIPTION:Near-surface turbulence is a key determinant of gas exchange velocities (k) used to compute fluxes of climate forcing trace gases under light to moderate winds in lakes and oceans. Scaling approaches...\n______________________________\nThis Event Downloaded From a Helios Calendar Powered Site
LOCATION:Environment and Energy Building (Y2E2) - Stanford University Room 111\, Stanford\, CA  94305
CATEGORIES:BayAreaScience.org Events
PRIORITY:0
TRANSP:TRANSPARENT
END:VEVENT
END:VCALENDAR