BEGIN:VCALENDAR
VERSION:2.0
METHOD:PUBLISH
CALSCALE:GREGORIAN
PRODID:-//Refresh Web Development//Helios Calendar//EN
X-FROM-URL:https://www.bayareascience.org/calendar/index.php?com=details&eID=33516
X-WR-RELCALID:BayAreaScience.org Everything About Agar: How to Capture and Propagate Mushrooms 20230219T160000
X-WR-TIMEZONE:America/New_York
X-WR-CALNAME:BayAreaScience.org
BEGIN:VEVENT
URL;VALUE=URI:https://www.bayareascience.org/calendar/index.php?com=detail&eID=33516
DTSTART:20230219T160000
DTEND:20230219T200000
SUMMARY:Everything About Agar: How to Capture and Propagate Mushrooms
DESCRIPTION:For the second Bay Area Applied Mycology and Counter Culture Labs Joint Mycology workshop of 2023\, we will focus on a technique that is central to the field of mycology:Â culturing...\n______________________________\nThis Event Downloaded From a Helios Calendar Powered Site
LOCATION:Counter Culture Labs - Omni Oakland Commons 4799 Shattuck Ave\, Oakland\, CA USA 94609
CATEGORIES:BayAreaScience.org Events
PRIORITY:0
TRANSP:TRANSPARENT
END:VEVENT
END:VCALENDAR