BEGIN:VCALENDAR
VERSION:2.0
METHOD:PUBLISH
CALSCALE:GREGORIAN
PRODID:-//Refresh Web Development//Helios Calendar//EN
X-FROM-URL:https://www.bayareascience.org/calendar/index.php?com=details&eID=33520
X-WR-RELCALID:BayAreaScience.org The importance of place; Fish diversity observed using DNA metabarcoding 20230208T153000
X-WR-TIMEZONE:America/New_York
X-WR-CALNAME:BayAreaScience.org
BEGIN:VEVENT
URL;VALUE=URI:https://www.bayareascience.org/calendar/index.php?com=detail&eID=33520
DTSTART:20230208T153000
DTEND:20230208T163000
SUMMARY:The importance of place\; Fish diversity observed using DNA metabarcoding
DESCRIPTION:The importance of place cannot be overstated in biology\, as place often drives the principal partition in genetic variance\, is correlated with abundance\, and underlies biodiversity. This project...\n______________________________\nThis Event Downloaded From a Helios Calendar Powered Site
LOCATION:Estuary & Ocean Science Center - 3150 Paradise Drive \, Tiburon\, CA  94920
CATEGORIES:BayAreaScience.org Events
PRIORITY:0
TRANSP:TRANSPARENT
END:VEVENT
END:VCALENDAR