BEGIN:VCALENDAR
VERSION:2.0
METHOD:PUBLISH
CALSCALE:GREGORIAN
PRODID:-//Refresh Web Development//Helios Calendar//EN
X-FROM-URL:https://www.bayareascience.org/calendar/index.php?com=details&eID=33521
X-WR-RELCALID:BayAreaScience.org A Rare Comet Visits Earth - SETI Institute Scientists Explain - Livestream 20230202T143000
X-WR-TIMEZONE:America/New_York
X-WR-CALNAME:BayAreaScience.org
BEGIN:VEVENT
URL;VALUE=URI:https://www.bayareascience.org/calendar/index.php?com=detail&eID=33521
DTSTART:20230202T143000
DTEND:20230202T150000
SUMMARY:A Rare Comet Visits Earth - SETI Institute Scientists Explain - Livestream
DESCRIPTION:A new comet\, C/2022 E3 (ZTF)\, is making a rare visit to Earth\, coming closer than it has in over 50\,000 years. Stargazers around the world have admired its eerie green glow and bright tail of dust....\n______________________________\nThis Event Downloaded From a Helios Calendar Powered Site
LOCATION:SETI Institute -  \, \, CA  
CATEGORIES:BayAreaScience.org Events
PRIORITY:0
TRANSP:TRANSPARENT
END:VEVENT
END:VCALENDAR