BEGIN:VCALENDAR
VERSION:2.0
METHOD:PUBLISH
CALSCALE:GREGORIAN
PRODID:-//Refresh Web Development//Helios Calendar//EN
X-FROM-URL:https://www.bayareascience.org/calendar/index.php?com=details&eID=33524
X-WR-RELCALID:BayAreaScience.org  Mapping 12 Billion Years of Cosmic History in the Coming Golden Era of Type Ia Supernovae 20230209T140000
X-WR-TIMEZONE:America/New_York
X-WR-CALNAME:BayAreaScience.org
BEGIN:VEVENT
URL;VALUE=URI:https://www.bayareascience.org/calendar/index.php?com=detail&eID=33524
DTSTART:20230209T140000
DTEND:20230209T150000
SUMMARY: Mapping 12 Billion Years of Cosmic History in the Coming Golden Era of Type Ia Supernovae
DESCRIPTION:Type Ia Supernovae (SN) are a central pillar of the â€œStandard Model of Cosmologyâ€ - Lambda Cold Dark Matter (LCDM)\, but they also uniquely elucidate persistent gaps in the theory. I...\n______________________________\nThis Event Downloaded From a Helios Calendar Powered Site
LOCATION:Stanford Linear Accelerator (SLAC) - Building 51 3rd Floor Conference room\, Menlo Park\, CA  94025
CATEGORIES:BayAreaScience.org Events
PRIORITY:0
TRANSP:TRANSPARENT
END:VEVENT
END:VCALENDAR