BEGIN:VCALENDAR
VERSION:2.0
METHOD:PUBLISH
CALSCALE:GREGORIAN
PRODID:-//Refresh Web Development//Helios Calendar//EN
X-FROM-URL:https://www.bayareascience.org/calendar/index.php?com=details&eID=33528
X-WR-RELCALID:BayAreaScience.org The Distributional and Equity Consequences of Environmental Policies 20230206T160000
X-WR-TIMEZONE:America/New_York
X-WR-CALNAME:BayAreaScience.org
BEGIN:VEVENT
URL;VALUE=URI:https://www.bayareascience.org/calendar/index.php?com=detail&eID=33528
DTSTART:20230206T160000
DTEND:20230206T173000
SUMMARY:The Distributional and Equity Consequences of Environmental Policies
DESCRIPTION:Low-income and minority communities experience the highest burden of environmental damages and pollution exposure in many settings around the world. By targeting polluting processes and altering...\n______________________________\nThis Event Downloaded From a Helios Calendar Powered Site
LOCATION:Giannini Hall - UC Berkeley Room 241\, Berkeley\, CA  94720
CATEGORIES:BayAreaScience.org Events
PRIORITY:0
TRANSP:TRANSPARENT
END:VEVENT
END:VCALENDAR