BEGIN:VCALENDAR
VERSION:2.0
METHOD:PUBLISH
CALSCALE:GREGORIAN
PRODID:-//Refresh Web Development//Helios Calendar//EN
X-FROM-URL:https://www.bayareascience.org/calendar/index.php?com=details&eID=33532
X-WR-RELCALID:BayAreaScience.org VC Stories: NEA Cofounder Charles W. Newhall III - Livestream 20230405T100000
X-WR-TIMEZONE:America/New_York
X-WR-CALNAME:BayAreaScience.org
BEGIN:VEVENT
URL;VALUE=URI:https://www.bayareascience.org/calendar/index.php?com=detail&eID=33532
DTSTART:20230405T100000
DTEND:20230405T104500
SUMMARY:VC Stories: NEA Cofounder Charles W. Newhall III - Livestream
DESCRIPTION:Who better to share insights about the ever-evolving world of venture capital than an insider?Â Â \n______________________________\nThis Event Downloaded From a Helios Calendar Powered Site
LOCATION:Computer History Museum -  \, \, CA  
CATEGORIES:BayAreaScience.org Events
PRIORITY:0
TRANSP:TRANSPARENT
END:VEVENT
END:VCALENDAR