BEGIN:VCALENDAR
VERSION:2.0
METHOD:PUBLISH
CALSCALE:GREGORIAN
PRODID:-//Refresh Web Development//Helios Calendar//EN
X-FROM-URL:https://www.bayareascience.org/calendar/index.php?com=details&eID=33533
X-WR-RELCALID:BayAreaScience.org  Combining spectroscopy, photometry and the CMB to unlock stage IV cosmology 20230209T110000
X-WR-TIMEZONE:America/New_York
X-WR-CALNAME:BayAreaScience.org
BEGIN:VEVENT
URL;VALUE=URI:https://www.bayareascience.org/calendar/index.php?com=detail&eID=33533
DTSTART:20230209T110000
DTEND:20230209T120000
SUMMARY: Combining spectroscopy\, photometry and the CMB to unlock stage IV cosmology
DESCRIPTION:The next generation of surveys\, including the Dark Energy Spectroscopic Instrument (DESI)\, Rubin Observatory and CMB S4\, holds the potential to probe the fundamental nature of dark energy\, dark...\n______________________________\nThis Event Downloaded From a Helios Calendar Powered Site
LOCATION:Stanford Linear Accelerator (SLAC) Building 48 - 2575 Sand Hill Road Redwood Rooms C & D\, Menlo Park\, CA  94025
CATEGORIES:BayAreaScience.org Events
PRIORITY:0
TRANSP:TRANSPARENT
END:VEVENT
END:VCALENDAR