BEGIN:VCALENDAR
VERSION:2.0
METHOD:PUBLISH
CALSCALE:GREGORIAN
PRODID:-//Refresh Web Development//Helios Calendar//EN
X-FROM-URL:https://www.bayareascience.org/calendar/index.php?com=details&eID=33537
X-WR-RELCALID:BayAreaScience.org Active Listening: Using Sound to Study Marine Mammals and the California Current Ecosystem 20230222T153000
X-WR-TIMEZONE:America/New_York
X-WR-CALNAME:BayAreaScience.org
BEGIN:VEVENT
URL;VALUE=URI:https://www.bayareascience.org/calendar/index.php?com=detail&eID=33537
DTSTART:20230222T153000
DTEND:20230222T163000
SUMMARY:Active Listening: Using Sound to Study Marine Mammals and the California Current Ecosystem
DESCRIPTION:Acoustic recordings provide an opportunity to monitor marine ecosystems that otherwise may be prohibitively expensive or impossible to observe visually. I will introduce various methods to collect...\n______________________________\nThis Event Downloaded From a Helios Calendar Powered Site
LOCATION:Estuary & Ocean Science Center - 3150 Paradise Drive \, Tiburon\, CA  94920
CATEGORIES:BayAreaScience.org Events
PRIORITY:0
TRANSP:TRANSPARENT
END:VEVENT
END:VCALENDAR