BEGIN:VCALENDAR
VERSION:2.0
METHOD:PUBLISH
CALSCALE:GREGORIAN
PRODID:-//Refresh Web Development//Helios Calendar//EN
X-FROM-URL:https://www.bayareascience.org/calendar/index.php?com=details&eID=33540
X-WR-RELCALID:BayAreaScience.org Operationalizing environmental DNA for conservation and management across estuary, wetland, and coastal ecosystems 20230329T153000
X-WR-TIMEZONE:America/New_York
X-WR-CALNAME:BayAreaScience.org
BEGIN:VEVENT
URL;VALUE=URI:https://www.bayareascience.org/calendar/index.php?com=detail&eID=33540
DTSTART:20230329T153000
DTEND:20230329T163000
SUMMARY:Operationalizing environmental DNA for conservation and management across estuary\, wetland\, and coastal ecosystems
DESCRIPTION:Speaker: Ann Holmes\, PhD Candidate\, UC DavisAttend in person or online.\n______________________________\nThis Event Downloaded From a Helios Calendar Powered Site
LOCATION:Estuary & Ocean Science Center - 3150 Paradise Drive \, Tiburon\, CA  94920
CATEGORIES:BayAreaScience.org Events
PRIORITY:0
TRANSP:TRANSPARENT
END:VEVENT
END:VCALENDAR