BEGIN:VCALENDAR
VERSION:2.0
METHOD:PUBLISH
CALSCALE:GREGORIAN
PRODID:-//Refresh Web Development//Helios Calendar//EN
X-FROM-URL:https://www.bayareascience.org/calendar/index.php?com=details&eID=33542
X-WR-RELCALID:BayAreaScience.org Experimenting around climate change: predicting the marine invertebrate response 20230412T153000
X-WR-TIMEZONE:America/New_York
X-WR-CALNAME:BayAreaScience.org
BEGIN:VEVENT
URL;VALUE=URI:https://www.bayareascience.org/calendar/index.php?com=detail&eID=33542
DTSTART:20230412T153000
DTEND:20230412T163000
SUMMARY:Experimenting around climate change: predicting the marine invertebrate response
DESCRIPTION:Ocean warming associated with climate change is an inconvenient truth for the future. We are scrambling to keep ahead of warming in terms of our understanding of how communities will respond. Dr....\n______________________________\nThis Event Downloaded From a Helios Calendar Powered Site
LOCATION:Estuary & Ocean Science Center - 3150 Paradise Drive \, Tiburon\, CA  94920
CATEGORIES:BayAreaScience.org Events
PRIORITY:0
TRANSP:TRANSPARENT
END:VEVENT
END:VCALENDAR