BEGIN:VCALENDAR
VERSION:2.0
METHOD:PUBLISH
CALSCALE:GREGORIAN
PRODID:-//Refresh Web Development//Helios Calendar//EN
X-FROM-URL:https://www.bayareascience.org/calendar/index.php?com=details&eID=33545
X-WR-RELCALID:BayAreaScience.org Polycentric governance in the Sacramento-San Joaquin Delta 20230503T153000
X-WR-TIMEZONE:America/New_York
X-WR-CALNAME:BayAreaScience.org
BEGIN:VEVENT
URL;VALUE=URI:https://www.bayareascience.org/calendar/index.php?com=detail&eID=33545
DTSTART:20230503T153000
DTEND:20230503T163000
SUMMARY:Polycentric governance in the Sacramento-San Joaquin Delta
DESCRIPTION:Dr. Rittelmeyer is a postdoctoral researcher at the Center for Environmental Policy and Behavior at UC Davis where she researches science integration into policy in the Sacramento-San Joaquin Delta....\n______________________________\nThis Event Downloaded From a Helios Calendar Powered Site
LOCATION:Estuary & Ocean Science Center - 3150 Paradise Drive \, Tiburon\, CA  94920
CATEGORIES:BayAreaScience.org Events
PRIORITY:0
TRANSP:TRANSPARENT
END:VEVENT
END:VCALENDAR