BEGIN:VCALENDAR
VERSION:2.0
METHOD:PUBLISH
CALSCALE:GREGORIAN
PRODID:-//Refresh Web Development//Helios Calendar//EN
X-FROM-URL:https://www.bayareascience.org/calendar/index.php?com=details&eID=33548
X-WR-RELCALID:BayAreaScience.org Principles of cellular behavior: integrating cellular structure, dynamics, and decision making 20230320T160000
X-WR-TIMEZONE:America/New_York
X-WR-CALNAME:BayAreaScience.org
BEGIN:VEVENT
URL;VALUE=URI:https://www.bayareascience.org/calendar/index.php?com=detail&eID=33548
DTSTART:20230320T160000
DTEND:20230320T170000
SUMMARY:Principles of cellular behavior: integrating cellular structure\, dynamics\, and decision making
DESCRIPTION:\n______________________________\nThis Event Downloaded From a Helios Calendar Powered Site
LOCATION:James H. Clark Center (Bldg 340) - Stanford University 318 Campus Dr\, Stanford\, CA  94305
CATEGORIES:BayAreaScience.org Events
PRIORITY:0
TRANSP:TRANSPARENT
END:VEVENT
END:VCALENDAR