BEGIN:VCALENDAR
VERSION:2.0
METHOD:PUBLISH
CALSCALE:GREGORIAN
PRODID:-//Refresh Web Development//Helios Calendar//EN
X-FROM-URL:https://www.bayareascience.org/calendar/index.php?com=details&eID=33553
X-WR-RELCALID:BayAreaScience.org  A Cosmic Perspective: Searching for Aliens, Finding Ourselves 20230209T110000
X-WR-TIMEZONE:America/New_York
X-WR-CALNAME:BayAreaScience.org
BEGIN:VEVENT
URL;VALUE=URI:https://www.bayareascience.org/calendar/index.php?com=detail&eID=33553
DTSTART:20230209T110000
DTEND:20230209T120000
SUMMARY: A Cosmic Perspective: Searching for Aliens\, Finding Ourselves
DESCRIPTION:Are we alone? Humans have been asking this question throughout history.Â  We want to know where we came from\, how we fit into the cosmos\, and where we are going.Â  We want to know whether there...\n______________________________\nThis Event Downloaded From a Helios Calendar Powered Site
LOCATION:Kavli Institute Astrophysics Colloquium - Physics and Astrophysics Building Room 102/103 452 Lomita Mall\, Stanford\, CA  94305
CATEGORIES:BayAreaScience.org Events
PRIORITY:0
TRANSP:TRANSPARENT
END:VEVENT
END:VCALENDAR