BEGIN:VCALENDAR
VERSION:2.0
METHOD:PUBLISH
CALSCALE:GREGORIAN
PRODID:-//Refresh Web Development//Helios Calendar//EN
X-FROM-URL:https://www.bayareascience.org/calendar/index.php?com=details&eID=33561
X-WR-RELCALID:BayAreaScience.org Exploration of Mars for Habitable Environments and Life 20230303T200000
X-WR-TIMEZONE:America/New_York
X-WR-CALNAME:BayAreaScience.org
BEGIN:VEVENT
URL;VALUE=URI:https://www.bayareascience.org/calendar/index.php?com=detail&eID=33561
DTSTART:20230303T200000
DTEND:20230303T200000
SUMMARY:Exploration of Mars for Habitable Environments and Life
DESCRIPTION:Recent Mars missions have discovered fascinating landscapes as well as chemicals and minerals formed by the action of liquid water. Mars could have been habitable sometime in the past\, and liquid...\n______________________________\nThis Event Downloaded From a Helios Calendar Powered Site
LOCATION:College of San Mateo Bldg 36 - 1700 W Hillsdale Rd \, San Mateo\, CA USA 94402
CATEGORIES:BayAreaScience.org Events
PRIORITY:0
TRANSP:TRANSPARENT
END:VEVENT
END:VCALENDAR