BEGIN:VCALENDAR
VERSION:2.0
METHOD:PUBLISH
CALSCALE:GREGORIAN
PRODID:-//Refresh Web Development//Helios Calendar//EN
X-FROM-URL:https://www.bayareascience.org/calendar/index.php?com=details&eID=33562
X-WR-RELCALID:BayAreaScience.org What if the Moon Didnâ€™t Exist? - Livestream 20230225T190000
X-WR-TIMEZONE:America/New_York
X-WR-CALNAME:BayAreaScience.org
BEGIN:VEVENT
URL;VALUE=URI:https://www.bayareascience.org/calendar/index.php?com=detail&eID=33562
DTSTART:20230225T190000
DTEND:20230225T190000
SUMMARY:What if the Moon Didnâ€™t Exist? - Livestream
DESCRIPTION:The Moon is responsible for many phenomena on Earth\, including the tides\, the seasons\, the length of the day\, much of the early volcanic activity on Earth\, and the weather patterns we experience...\n______________________________\nThis Event Downloaded From a Helios Calendar Powered Site
LOCATION:East Bay Astronomical Society -  \, \, CA  
CATEGORIES:BayAreaScience.org Events
PRIORITY:0
TRANSP:TRANSPARENT
END:VEVENT
END:VCALENDAR