BEGIN:VCALENDAR
VERSION:2.0
METHOD:PUBLISH
CALSCALE:GREGORIAN
PRODID:-//Refresh Web Development//Helios Calendar//EN
X-FROM-URL:https://www.bayareascience.org/calendar/index.php?com=details&eID=33563
X-WR-RELCALID:BayAreaScience.org Lunar Landing Sites -- Past and Future 20230216T190000
X-WR-TIMEZONE:America/New_York
X-WR-CALNAME:BayAreaScience.org
BEGIN:VEVENT
URL;VALUE=URI:https://www.bayareascience.org/calendar/index.php?com=detail&eID=33563
DTSTART:20230216T190000
DTEND:20230216T210000
SUMMARY:Lunar Landing Sites -- Past and Future
DESCRIPTION:As we reach the 50th anniversary of the Apollo Moon landings\, we look back at the locations we visited with Apollo\, review why those sites were selected\, and reflect on what we learned there. We...\n______________________________\nThis Event Downloaded From a Helios Calendar Powered Site
LOCATION:Los Altos Public Library - 13 S San Antonio Rd Peninsula Astronomical Society\, Los Altos\, CA  94022
CATEGORIES:BayAreaScience.org Events
PRIORITY:0
TRANSP:TRANSPARENT
END:VEVENT
END:VCALENDAR