BEGIN:VCALENDAR
VERSION:2.0
METHOD:PUBLISH
CALSCALE:GREGORIAN
PRODID:-//Refresh Web Development//Helios Calendar//EN
X-FROM-URL:https://www.bayareascience.org/calendar/index.php?com=details&eID=33567
X-WR-RELCALID:BayAreaScience.org Atomic Engineering - Tailoring Atoms in Solids at Room Temperature 20230206T143000
X-WR-TIMEZONE:America/New_York
X-WR-CALNAME:BayAreaScience.org
BEGIN:VEVENT
URL;VALUE=URI:https://www.bayareascience.org/calendar/index.php?com=detail&eID=33567
DTSTART:20230206T143000
DTEND:20230206T153000
SUMMARY:Atomic Engineering - Tailoring Atoms in Solids at Room Temperature
DESCRIPTION:Atomic Engineering (AE)\, controlling materials atom-by-atom at room temperature\, is an ultimate form of materials engineering. A major thrust behind the development of AE is Quantum Information...\n______________________________\nThis Event Downloaded From a Helios Calendar Powered Site
LOCATION:Physics North - UC Berkeley Room 3\, Berkeley\, CA  94720
CATEGORIES:BayAreaScience.org Events
PRIORITY:0
TRANSP:TRANSPARENT
END:VEVENT
END:VCALENDAR