BEGIN:VCALENDAR
VERSION:2.0
METHOD:PUBLISH
CALSCALE:GREGORIAN
PRODID:-//Refresh Web Development//Helios Calendar//EN
X-FROM-URL:https://www.bayareascience.org/calendar/index.php?com=details&eID=33570
X-WR-RELCALID:BayAreaScience.org Snowflake Architecture: Scaling the Data Warehouse for the Cloud 20230215T092000
X-WR-TIMEZONE:America/New_York
X-WR-CALNAME:BayAreaScience.org
BEGIN:VEVENT
URL;VALUE=URI:https://www.bayareascience.org/calendar/index.php?com=detail&eID=33570
DTSTART:20230215T092000
DTEND:20230215T102500
SUMMARY:Snowflake Architecture: Scaling the Data Warehouse for the Cloud
DESCRIPTION:\n______________________________\nThis Event Downloaded From a Helios Calendar Powered Site
LOCATION:Engineering 2\, Room 180 - UC Santa Cruz 1156 High St\, Santa Cruz\, CA  95064
CATEGORIES:BayAreaScience.org Events
PRIORITY:0
TRANSP:TRANSPARENT
END:VEVENT
END:VCALENDAR