BEGIN:VCALENDAR
VERSION:2.0
METHOD:PUBLISH
CALSCALE:GREGORIAN
PRODID:-//Refresh Web Development//Helios Calendar//EN
X-FROM-URL:https://www.bayareascience.org/calendar/index.php?com=details&eID=33574
X-WR-RELCALID:BayAreaScience.org Can Removing Development Subsidies Promote Adaptation? Evidence from the Coastal Barrier Resources Act 20230208T160000
X-WR-TIMEZONE:America/New_York
X-WR-CALNAME:BayAreaScience.org
BEGIN:VEVENT
URL;VALUE=URI:https://www.bayareascience.org/calendar/index.php?com=detail&eID=33574
DTSTART:20230208T160000
DTEND:20230208T173000
SUMMARY:Can Removing Development Subsidies Promote Adaptation? Evidence from the Coastal Barrier Resources Act
DESCRIPTION:As natural disasters grow in frequency and intensity under climate change\, limiting populations and properties in harm's way will be one important facet of adaptation. This study focuses on one...\n______________________________\nThis Event Downloaded From a Helios Calendar Powered Site
LOCATION:Giannini Hall - UC Berkeley Room 241\, Berkeley\, CA  94720
CATEGORIES:BayAreaScience.org Events
PRIORITY:0
TRANSP:TRANSPARENT
END:VEVENT
END:VCALENDAR