BEGIN:VCALENDAR
VERSION:2.0
METHOD:PUBLISH
CALSCALE:GREGORIAN
PRODID:-//Refresh Web Development//Helios Calendar//EN
X-FROM-URL:https://www.bayareascience.org/calendar/index.php?com=details&eID=33576
X-WR-RELCALID:BayAreaScience.org Women in Data Science at UC Berkeley 20230307T090000
X-WR-TIMEZONE:America/New_York
X-WR-CALNAME:BayAreaScience.org
BEGIN:VEVENT
URL;VALUE=URI:https://www.bayareascience.org/calendar/index.php?com=detail&eID=33576
DTSTART:20230307T090000
DTEND:20230307T160000
SUMMARY:Women in Data Science at UC Berkeley
DESCRIPTION:The UC Berkeley School of Information and CITRIS are excited to partner with Stanford University to bring the Women in Data Science (WiDS) conference to Berkeley\, California.The Global Women...\n______________________________\nThis Event Downloaded From a Helios Calendar Powered Site
LOCATION:Sutardja Dai Hall - UC Berkeley Banatao Auditorium\, Berkeley\, CA  94720
CATEGORIES:BayAreaScience.org Events
PRIORITY:0
TRANSP:TRANSPARENT
END:VEVENT
END:VCALENDAR