BEGIN:VCALENDAR
VERSION:2.0
METHOD:PUBLISH
CALSCALE:GREGORIAN
PRODID:-//Refresh Web Development//Helios Calendar//EN
X-FROM-URL:https://www.bayareascience.org/calendar/index.php?com=details&eID=33578
X-WR-RELCALID:BayAreaScience.org Searching for Planet B - What can humanity learn from other planets if it is to survive into the future? 20230306T193000
X-WR-TIMEZONE:America/New_York
X-WR-CALNAME:BayAreaScience.org
BEGIN:VEVENT
URL;VALUE=URI:https://www.bayareascience.org/calendar/index.php?com=detail&eID=33578
DTSTART:20230306T193000
DTEND:20230306T210000
SUMMARY:Searching for Planet B - What can humanity learn from other planets if it is to survive into the future?
DESCRIPTION:Do alien worlds hold the answers to humanityâ€™s future? Can we use the discoveries from astronomy and modern space science to address the climate crisis here on Earth? Synthesizing the last...\n______________________________\nThis Event Downloaded From a Helios Calendar Powered Site
LOCATION:California Academy of Sciences - 55 Music Concourse Dr. \, San Francisco\, CA USA 94118
CATEGORIES:BayAreaScience.org Events
PRIORITY:0
TRANSP:TRANSPARENT
END:VEVENT
END:VCALENDAR