BEGIN:VCALENDAR
VERSION:2.0
METHOD:PUBLISH
CALSCALE:GREGORIAN
PRODID:-//Refresh Web Development//Helios Calendar//EN
X-FROM-URL:https://www.bayareascience.org/calendar/index.php?com=details&eID=33581
X-WR-RELCALID:BayAreaScience.org Sonoma State University Astronomy Public Viewing Nights 20230414T210000
X-WR-TIMEZONE:America/New_York
X-WR-CALNAME:BayAreaScience.org
BEGIN:VEVENT
URL;VALUE=URI:https://www.bayareascience.org/calendar/index.php?com=detail&eID=33581
DTSTART:20230414T210000
DTEND:20230414T223000
SUMMARY:Sonoma State University Astronomy Public Viewing Nights
DESCRIPTION:Join members of the Sonoma State Physics - Astronomy department for public astronomy viewing.Â  See weblink for map to the site.Event is weather dependent.Â  Check the weblink prior...\n______________________________\nThis Event Downloaded From a Helios Calendar Powered Site
LOCATION:Sonoma State University Public Astronomy - Observatory 1801 East Cotati Ave\, Rohnert Park\, CA  94928
CATEGORIES:BayAreaScience.org Events
PRIORITY:0
TRANSP:TRANSPARENT
END:VEVENT
END:VCALENDAR